BEGIN:VCALENDAR
VERSION:2.0
PRODID:-//Bibb County School District - ECPv5.3.2.1//NONSGML v1.0//EN
CALSCALE:GREGORIAN
METHOD:PUBLISH
X-WR-CALNAME:Bibb County School District
X-ORIGINAL-URL:http://bibb.stdistricts.com
X-WR-CALDESC:Events for Bibb County School District
BEGIN:VTIMEZONE
TZID:UTC
BEGIN:STANDARD
TZOFFSETFROM:+0000
TZOFFSETTO:+0000
TZNAME:UTC
DTSTART:20200101T000000
END:STANDARD
END:VTIMEZONE
BEGIN:VEVENT
DTSTART;VALUE=DATE:20200302
DTEND;VALUE=DATE:20200304
DTSTAMP:20260424T125359
CREATED:20190805T190016Z
LAST-MODIFIED:20190805T191853Z
UID:6379-1583107200-1583279999@bibb.stdistricts.com
SUMMARY:RTI Coaching Academy
DESCRIPTION:
URL:http://bibb.stdistricts.com/event/rti-coaching-academy-5/
LOCATION:Bibb County SD\, United States
END:VEVENT
END:VCALENDAR