BEGIN:VCALENDAR
VERSION:2.0
PRODID:-//Bibb County School District - ECPv5.3.2.1//NONSGML v1.0//EN
CALSCALE:GREGORIAN
METHOD:PUBLISH
X-WR-CALNAME:Bibb County School District
X-ORIGINAL-URL:http://bibb.stdistricts.com
X-WR-CALDESC:Events for Bibb County School District
BEGIN:VTIMEZONE
TZID:UTC
BEGIN:STANDARD
TZOFFSETFROM:+0000
TZOFFSETTO:+0000
TZNAME:UTC
DTSTART:20180101T000000
END:STANDARD
END:VTIMEZONE
BEGIN:VEVENT
DTSTART;VALUE=DATE:20180507
DTEND;VALUE=DATE:20180508
DTSTAMP:20260426T012212
CREATED:20180409T185100Z
LAST-MODIFIED:20180409T185100Z
UID:6114-1525651200-1525737599@bibb.stdistricts.com
SUMMARY:Lane ES
DESCRIPTION:
URL:http://bibb.stdistricts.com/event/lane-es-119/
LOCATION:Lane ES\, United States
END:VEVENT
BEGIN:VEVENT
DTSTART;VALUE=DATE:20180507
DTEND;VALUE=DATE:20180509
DTSTAMP:20260426T012212
CREATED:20180409T185101Z
LAST-MODIFIED:20180409T185101Z
UID:6115-1525651200-1525823999@bibb.stdistricts.com
SUMMARY:MLK Jr ES
DESCRIPTION:
URL:http://bibb.stdistricts.com/event/mlk-jr-es-143/
LOCATION:MLK Jr ES\, United States
END:VEVENT
END:VCALENDAR