BEGIN:VCALENDAR
VERSION:2.0
PRODID:-//Bibb County School District - ECPv5.3.2.1//NONSGML v1.0//EN
CALSCALE:GREGORIAN
METHOD:PUBLISH
X-WR-CALNAME:Bibb County School District
X-ORIGINAL-URL:http://bibb.stdistricts.com
X-WR-CALDESC:Events for Bibb County School District
BEGIN:VTIMEZONE
TZID:UTC
BEGIN:STANDARD
TZOFFSETFROM:+0000
TZOFFSETTO:+0000
TZNAME:UTC
DTSTART:20180101T000000
END:STANDARD
END:VTIMEZONE
BEGIN:VEVENT
DTSTART;VALUE=DATE:20180402
DTEND;VALUE=DATE:20180404
DTSTAMP:20260426T013804
CREATED:20180409T185056Z
LAST-MODIFIED:20180409T185056Z
UID:6106-1522627200-1522799999@bibb.stdistricts.com
SUMMARY:Brookdale ES
DESCRIPTION:
URL:http://bibb.stdistricts.com/event/brookdale-es-118/
LOCATION:Brookdale ES\, United States
END:VEVENT
END:VCALENDAR