BEGIN:VCALENDAR
VERSION:2.0
PRODID:-//Bibb County School District - ECPv5.3.2.1//NONSGML v1.0//EN
CALSCALE:GREGORIAN
METHOD:PUBLISH
X-WR-CALNAME:Bibb County School District
X-ORIGINAL-URL:http://bibb.stdistricts.com
X-WR-CALDESC:Events for Bibb County School District
BEGIN:VTIMEZONE
TZID:UTC
BEGIN:STANDARD
TZOFFSETFROM:+0000
TZOFFSETTO:+0000
TZNAME:UTC
DTSTART:20180101T000000
END:STANDARD
END:VTIMEZONE
BEGIN:VEVENT
DTSTART;VALUE=DATE:20180319
DTEND;VALUE=DATE:20180321
DTSTAMP:20260426T030744
CREATED:20180409T185052Z
LAST-MODIFIED:20180409T185052Z
UID:6098-1521417600-1521590399@bibb.stdistricts.com
SUMMARY:Leadership Day
DESCRIPTION:
URL:http://bibb.stdistricts.com/event/leadership-day-40/
LOCATION:Leadership Day\, United States
END:VEVENT
BEGIN:VEVENT
DTSTART;VALUE=DATE:20180319
DTEND;VALUE=DATE:20180321
DTSTAMP:20260426T030744
CREATED:20180409T185105Z
LAST-MODIFIED:20180409T185105Z
UID:6126-1521417600-1521590399@bibb.stdistricts.com
SUMMARY:Southwest HS
DESCRIPTION:
URL:http://bibb.stdistricts.com/event/southwest-hs-121/
LOCATION:Southwest HS\, United States
END:VEVENT
BEGIN:VEVENT
DTSTART;VALUE=DATE:20180320
DTEND;VALUE=DATE:20180321
DTSTAMP:20260426T030744
CREATED:20180409T185053Z
LAST-MODIFIED:20180409T185053Z
UID:6102-1521504000-1521590399@bibb.stdistricts.com
SUMMARY:Appling MS
DESCRIPTION:
URL:http://bibb.stdistricts.com/event/appling-ms-166/
LOCATION:Appling MS\, United States
END:VEVENT
END:VCALENDAR