BEGIN:VCALENDAR
VERSION:2.0
PRODID:-//Bibb County School District - ECPv5.3.2.1//NONSGML v1.0//EN
CALSCALE:GREGORIAN
METHOD:PUBLISH
X-WR-CALNAME:Bibb County School District
X-ORIGINAL-URL:http://bibb.stdistricts.com
X-WR-CALDESC:Events for Bibb County School District
BEGIN:VTIMEZONE
TZID:UTC
BEGIN:STANDARD
TZOFFSETFROM:+0000
TZOFFSETTO:+0000
TZNAME:UTC
DTSTART:20180101T000000
END:STANDARD
END:VTIMEZONE
BEGIN:VEVENT
DTSTART;VALUE=DATE:20180227
DTEND;VALUE=DATE:20180301
DTSTAMP:20260426T030627
CREATED:20180314T120639Z
LAST-MODIFIED:20180314T120639Z
UID:5973-1519689600-1519862399@bibb.stdistricts.com
SUMMARY:Southfield ES
DESCRIPTION:
URL:http://bibb.stdistricts.com/event/southfield-es-116/
LOCATION:Southfield ES\, United States
END:VEVENT
END:VCALENDAR