BEGIN:VCALENDAR
VERSION:2.0
PRODID:-//Bibb County School District - ECPv5.3.2.1//NONSGML v1.0//EN
CALSCALE:GREGORIAN
METHOD:PUBLISH
X-WR-CALNAME:Bibb County School District
X-ORIGINAL-URL:http://bibb.stdistricts.com
X-WR-CALDESC:Events for Bibb County School District
BEGIN:VTIMEZONE
TZID:UTC
BEGIN:STANDARD
TZOFFSETFROM:+0000
TZOFFSETTO:+0000
TZNAME:UTC
DTSTART:20160101T000000
END:STANDARD
END:VTIMEZONE
BEGIN:VEVENT
DTSTART;VALUE=DATE:20161114
DTEND;VALUE=DATE:20161116
DTSTAMP:20260425T020738
CREATED:20170412T132822Z
LAST-MODIFIED:20170412T132822Z
UID:3395-1479081600-1479254399@bibb.stdistricts.com
SUMMARY:Southwest HS
DESCRIPTION:
URL:http://bibb.stdistricts.com/event/southwest-hs-36/
LOCATION:Southwest HS\, United States
END:VEVENT
END:VCALENDAR