BEGIN:VCALENDAR
VERSION:2.0
PRODID:-//Bibb County School District - ECPv5.3.2.1//NONSGML v1.0//EN
CALSCALE:GREGORIAN
METHOD:PUBLISH
X-WR-CALNAME:Bibb County School District
X-ORIGINAL-URL:http://bibb.stdistricts.com
X-WR-CALDESC:Events for Bibb County School District
BEGIN:VTIMEZONE
TZID:UTC
BEGIN:STANDARD
TZOFFSETFROM:+0000
TZOFFSETTO:+0000
TZNAME:UTC
DTSTART:20180101T000000
END:STANDARD
END:VTIMEZONE
BEGIN:VEVENT
DTSTART;VALUE=DATE:20180515
DTEND;VALUE=DATE:20180517
DTSTAMP:20260425T033725
CREATED:20180409T185107Z
LAST-MODIFIED:20180409T185107Z
UID:6128-1526342400-1526515199@bibb.stdistricts.com
SUMMARY:Southwest HS
DESCRIPTION:
URL:http://bibb.stdistricts.com/event/southwest-hs-123/
LOCATION:Southwest HS\, United States
END:VEVENT
END:VCALENDAR