BEGIN:VCALENDAR
VERSION:2.0
PRODID:-//Bibb County School District - ECPv5.3.2.1//NONSGML v1.0//EN
CALSCALE:GREGORIAN
METHOD:PUBLISH
X-WR-CALNAME:Bibb County School District
X-ORIGINAL-URL:http://bibb.stdistricts.com
X-WR-CALDESC:Events for Bibb County School District
BEGIN:VTIMEZONE
TZID:UTC
BEGIN:STANDARD
TZOFFSETFROM:+0000
TZOFFSETTO:+0000
TZNAME:UTC
DTSTART:20170101T000000
END:STANDARD
END:VTIMEZONE
BEGIN:VEVENT
DTSTART;VALUE=DATE:20170109
DTEND;VALUE=DATE:20170110
DTSTAMP:20260425T034242
CREATED:20170412T132819Z
LAST-MODIFIED:20170412T132819Z
UID:3388-1483920000-1484006399@bibb.stdistricts.com
SUMMARY:Southfield ES
DESCRIPTION:
URL:http://bibb.stdistricts.com/event/southfield-es-41/
LOCATION:Southfield ES\, United States
END:VEVENT
END:VCALENDAR