BEGIN:VCALENDAR
VERSION:2.0
PRODID:-//Bibb County School District - ECPv5.3.2.1//NONSGML v1.0//EN
CALSCALE:GREGORIAN
METHOD:PUBLISH
X-WR-CALNAME:Bibb County School District
X-ORIGINAL-URL:http://bibb.stdistricts.com
X-WR-CALDESC:Events for Bibb County School District
BEGIN:VTIMEZONE
TZID:UTC
BEGIN:STANDARD
TZOFFSETFROM:+0000
TZOFFSETTO:+0000
TZNAME:UTC
DTSTART:20190101T000000
END:STANDARD
END:VTIMEZONE
BEGIN:VEVENT
DTSTART;VALUE=DATE:20190711
DTEND;VALUE=DATE:20190712
DTSTAMP:20260424T191442
CREATED:20190805T190013Z
LAST-MODIFIED:20190805T191851Z
UID:6374-1562803200-1562889599@bibb.stdistricts.com
SUMMARY:Riley ES – Coaching Day
DESCRIPTION:
URL:http://bibb.stdistricts.com/event/riley-es-coaching-day/
LOCATION:Riley ES\, United States
END:VEVENT
END:VCALENDAR