BEGIN:VCALENDAR
VERSION:2.0
PRODID:-//Bibb County School District - ECPv5.3.2.1//NONSGML v1.0//EN
CALSCALE:GREGORIAN
METHOD:PUBLISH
X-WR-CALNAME:Bibb County School District
X-ORIGINAL-URL:http://bibb.stdistricts.com
X-WR-CALDESC:Events for Bibb County School District
BEGIN:VTIMEZONE
TZID:UTC
BEGIN:STANDARD
TZOFFSETFROM:+0000
TZOFFSETTO:+0000
TZNAME:UTC
DTSTART:20180101T000000
END:STANDARD
END:VTIMEZONE
BEGIN:VEVENT
DTSTART;VALUE=DATE:20180510
DTEND;VALUE=DATE:20180511
DTSTAMP:20260425T033750
CREATED:20180410T185101Z
LAST-MODIFIED:20180426T172946Z
UID:6116-1525910400-1525996799@bibb.stdistricts.com
SUMMARY:MLK Jr ES
DESCRIPTION:
URL:http://bibb.stdistricts.com/event/mlk-jr-es-144/
LOCATION:MLK Jr ES\, United States
END:VEVENT
END:VCALENDAR