BEGIN:VCALENDAR
VERSION:2.0
PRODID:-//Bibb County School District - ECPv5.3.2.1//NONSGML v1.0//EN
CALSCALE:GREGORIAN
METHOD:PUBLISH
X-WR-CALNAME:Bibb County School District
X-ORIGINAL-URL:http://bibb.stdistricts.com
X-WR-CALDESC:Events for Bibb County School District
BEGIN:VTIMEZONE
TZID:UTC
BEGIN:STANDARD
TZOFFSETFROM:+0000
TZOFFSETTO:+0000
TZNAME:UTC
DTSTART:20160101T000000
END:STANDARD
END:VTIMEZONE
BEGIN:VEVENT
DTSTART;VALUE=DATE:20161003
DTEND;VALUE=DATE:20161004
DTSTAMP:20260425T113150
CREATED:20170412T132759Z
LAST-MODIFIED:20170412T132759Z
UID:3357-1475452800-1475539199@bibb.stdistricts.com
SUMMARY:Mathematics Content
DESCRIPTION:
URL:http://bibb.stdistricts.com/event/mathematics-content-20/
LOCATION:Mathematics Content\, United States
END:VEVENT
END:VCALENDAR