BEGIN:VCALENDAR
VERSION:2.0
PRODID:-//Bibb County School District - ECPv5.3.2.1//NONSGML v1.0//EN
CALSCALE:GREGORIAN
METHOD:PUBLISH
X-WR-CALNAME:Bibb County School District
X-ORIGINAL-URL:http://bibb.stdistricts.com
X-WR-CALDESC:Events for Bibb County School District
BEGIN:VTIMEZONE
TZID:UTC
BEGIN:STANDARD
TZOFFSETFROM:+0000
TZOFFSETTO:+0000
TZNAME:UTC
DTSTART:20170101T000000
END:STANDARD
END:VTIMEZONE
BEGIN:VEVENT
DTSTART;VALUE=DATE:20170316
DTEND;VALUE=DATE:20170318
DTSTAMP:20260425T014431
CREATED:20170412T132749Z
LAST-MODIFIED:20170412T132749Z
UID:3340-1489622400-1489795199@bibb.stdistricts.com
SUMMARY:Ingram Pye ES
DESCRIPTION:
URL:http://bibb.stdistricts.com/event/ingram-pye-es-33/
LOCATION:Ingram Pye ES\, United States
END:VEVENT
END:VCALENDAR