BEGIN:VCALENDAR
VERSION:2.0
PRODID:-//Bibb County School District - ECPv5.3.2.1//NONSGML v1.0//EN
CALSCALE:GREGORIAN
METHOD:PUBLISH
X-WR-CALNAME:Bibb County School District
X-ORIGINAL-URL:http://bibb.stdistricts.com
X-WR-CALDESC:Events for Bibb County School District
BEGIN:VTIMEZONE
TZID:UTC
BEGIN:STANDARD
TZOFFSETFROM:+0000
TZOFFSETTO:+0000
TZNAME:UTC
DTSTART:20170101T000000
END:STANDARD
END:VTIMEZONE
BEGIN:VEVENT
DTSTART;VALUE=DATE:20171115
DTEND;VALUE=DATE:20171116
DTSTAMP:20260425T033604
CREATED:20171207T194045Z
LAST-MODIFIED:20171207T194045Z
UID:5220-1510704000-1510790399@bibb.stdistricts.com
SUMMARY:Bruce ES
DESCRIPTION:
URL:http://bibb.stdistricts.com/event/bruce-es-91/
LOCATION:Bruce ES\, United States
END:VEVENT
END:VCALENDAR