BEGIN:VCALENDAR
VERSION:2.0
PRODID:-//Bibb County School District - ECPv5.3.2.1//NONSGML v1.0//EN
CALSCALE:GREGORIAN
METHOD:PUBLISH
X-WR-CALNAME:Bibb County School District
X-ORIGINAL-URL:http://bibb.stdistricts.com
X-WR-CALDESC:Events for Bibb County School District
BEGIN:VTIMEZONE
TZID:UTC
BEGIN:STANDARD
TZOFFSETFROM:+0000
TZOFFSETTO:+0000
TZNAME:UTC
DTSTART:20170101T000000
END:STANDARD
END:VTIMEZONE
BEGIN:VEVENT
DTSTART;VALUE=DATE:20170919
DTEND;VALUE=DATE:20170921
DTSTAMP:20260425T104619
CREATED:20171013T194431Z
LAST-MODIFIED:20171013T194431Z
UID:4603-1505779200-1505951999@bibb.stdistricts.com
SUMMARY:Brookdale ES
DESCRIPTION:
URL:http://bibb.stdistricts.com/event/brookdale-es-85/
LOCATION:Brookdale ES\, United States
END:VEVENT
END:VCALENDAR