BEGIN:VCALENDAR
VERSION:2.0
PRODID:-//Bibb County School District - ECPv5.3.2.1//NONSGML v1.0//EN
CALSCALE:GREGORIAN
METHOD:PUBLISH
X-WR-CALNAME:Bibb County School District
X-ORIGINAL-URL:http://bibb.stdistricts.com
X-WR-CALDESC:Events for Bibb County School District
BEGIN:VTIMEZONE
TZID:UTC
BEGIN:STANDARD
TZOFFSETFROM:+0000
TZOFFSETTO:+0000
TZNAME:UTC
DTSTART:20160101T000000
END:STANDARD
END:VTIMEZONE
BEGIN:VEVENT
DTSTART;VALUE=DATE:20160922
DTEND;VALUE=DATE:20160924
DTSTAMP:20260425T142632
CREATED:20170412T132726Z
LAST-MODIFIED:20170412T132726Z
UID:3301-1474502400-1474675199@bibb.stdistricts.com
SUMMARY:Appling MS Needs Assessment
DESCRIPTION:
URL:http://bibb.stdistricts.com/event/appling-ms-needs-assessment-7/
LOCATION:Appling MS Needs Assessment\, United States
END:VEVENT
END:VCALENDAR