BEGIN:VCALENDAR
VERSION:2.0
PRODID:-//Bibb County School District - ECPv5.3.2.1//NONSGML v1.0//EN
CALSCALE:GREGORIAN
METHOD:PUBLISH
X-WR-CALNAME:Bibb County School District
X-ORIGINAL-URL:http://bibb.stdistricts.com
X-WR-CALDESC:Events for Bibb County School District
BEGIN:VTIMEZONE
TZID:UTC
BEGIN:STANDARD
TZOFFSETFROM:+0000
TZOFFSETTO:+0000
TZNAME:UTC
DTSTART:20170101T000000
END:STANDARD
END:VTIMEZONE
BEGIN:VEVENT
DTSTART;VALUE=DATE:20170611
DTEND;VALUE=DATE:20170612
DTSTAMP:20260425T020519
CREATED:20170929T125943Z
LAST-MODIFIED:20170929T125943Z
UID:4302-1497139200-1497225599@bibb.stdistricts.com
SUMMARY:Appling MS
DESCRIPTION:
URL:http://bibb.stdistricts.com/event/appling-ms-98/
LOCATION:Appling MS\, United States
END:VEVENT
END:VCALENDAR