BEGIN:VCALENDAR
VERSION:2.0
PRODID:-//Bibb County School District - ECPv5.3.2.1//NONSGML v1.0//EN
CALSCALE:GREGORIAN
METHOD:PUBLISH
X-WR-CALNAME:Bibb County School District
X-ORIGINAL-URL:http://bibb.stdistricts.com
X-WR-CALDESC:Events for Bibb County School District
BEGIN:VTIMEZONE
TZID:UTC
BEGIN:STANDARD
TZOFFSETFROM:+0000
TZOFFSETTO:+0000
TZNAME:UTC
DTSTART:20170101T000000
END:STANDARD
END:VTIMEZONE
BEGIN:VEVENT
DTSTART;VALUE=DATE:20170214
DTEND;VALUE=DATE:20170215
DTSTAMP:20260425T033531
CREATED:20170412T132723Z
LAST-MODIFIED:20170412T132723Z
UID:3297-1487030400-1487116799@bibb.stdistricts.com
SUMMARY:Appling MS
DESCRIPTION:
URL:http://bibb.stdistricts.com/event/appling-ms-54/
LOCATION:Appling MS\, United States
END:VEVENT
END:VCALENDAR